BEGIN:VCALENDAR
VERSION:2.0
PRODID:-//wp-events-plugin.com//7.0.2//EN
BEGIN:VEVENT
UID:0-12@sweh.yohi.app
DTSTART:20260513T080000Z
DTEND:20260513T100000Z
DTSTAMP:20260422T231738Z
URL:https://sweh.yohi.app/events/workshop-the-inner-game-of-business-with-
 karms-fung/
SUMMARY:Workshop: The Inner Game of Business with Karms Fung
DESCRIPTION:The Inner Game of Business: How Your Identity Is Either Your 
 Greatest Asset or Your Biggest Liability\nYou've built the network. Done 
 the courses. Read the books. So why does it still feel like something's mi
 ssing? This evening with Karms Fung gives you the honest answer.\nOne even
 ing. One framework that changes how you see yourself.\nThis is not a lect
 ure. It is an intimate Q&amp\;A session. Karms walks you through the S3 Fr
 amework\, then opens the floor so you can ask the questions that actually 
 matter to your situation.\n\nSWEH Exclusive Giveaway:\nBe one of 20 guests
  to receive a complimentary signed copy of The Inner Switch\, courtesy of 
 SWEH—along with a personal signing and photo opportunity with Karms.\nWi
 nners must be in attendance on the night to claim.\nCopies of the book wil
 l also be available for purchase on the night\, so no one misses out.
ATTACH;FMTTYPE=image/jpeg:https://sweh.yohi.app/wp-content/uploads/sites/2
 /2026/04/Karms-fung-workshop.jpg
CATEGORIES:Workshop
LOCATION:@Mondays\, Unit 6/88 John St\, Cabramatta \, NSW \, 2166\, Austral
 ia
X-APPLE-STRUCTURED-LOCATION;VALUE=URI;X-ADDRESS=Unit 6/88 John St\, Cabrama
 tta \, NSW \, 2166\, Australia;X-APPLE-RADIUS=100;X-TITLE=@Mondays:geo:0,0
END:VEVENT
END:VCALENDAR